BEGIN:VCALENDAR
VERSION:2.0
PRODID:-//Grace International School - ECPv6.15.18//NONSGML v1.0//EN
CALSCALE:GREGORIAN
METHOD:PUBLISH
X-WR-CALNAME:Grace International School
X-ORIGINAL-URL:https://grace.edu.bd
X-WR-CALDESC:Events for Grace International School
REFRESH-INTERVAL;VALUE=DURATION:PT1H
X-Robots-Tag:noindex
X-PUBLISHED-TTL:PT1H
BEGIN:VTIMEZONE
TZID:UTC
BEGIN:STANDARD
TZOFFSETFROM:+0000
TZOFFSETTO:+0000
TZNAME:UTC
DTSTART:20220101T000000
END:STANDARD
END:VTIMEZONE
BEGIN:VEVENT
DTSTART;VALUE=DATE:20240501
DTEND;VALUE=DATE:20240502
DTSTAMP:20260423T094706
CREATED:20230308T034613Z
LAST-MODIFIED:20231017T034758Z
UID:13886-1714521600-1714607999@grace.edu.bd
SUMMARY:Int’l Labour Day School and Offices Closed
DESCRIPTION:
URL:https://grace.edu.bd/event/intl-labour-day-school-offices-closed/
CATEGORIES:Whole School
END:VEVENT
BEGIN:VEVENT
DTSTART;TZID=UTC:20240424T083000
DTEND;TZID=UTC:20240424T100000
DTSTAMP:20260423T094706
CREATED:20240318T033107Z
LAST-MODIFIED:20240318T033108Z
UID:15413-1713947400-1713952800@grace.edu.bd
SUMMARY:Acumen University Fair
DESCRIPTION:Exclusive Partnerships: \nThrough our collaboration with Acumen Education\, we are honoured to host representatives from prestigious universities\, including: \n\nUniversity of Exeter\nLancaster University\nUniversity of Southampton\nUniversity of Portsmouth\nLoughborough University\nUniversity of Dundee\nUniversity of Lincoln\nUniversity of Aberystwyth\nGlasgow Caledonian University\n\nMore universities are to be confirmed! \nBenefits for your Students: \n\nInteract directly with university representatives from the United Kingdom.\nExplore a diverse range of academic programs across various disciplines.\nGain valuable insights into the university application process and admission requirements.\nLearn about scholarships and financial aid opportunities.\nConnect with peers from other schools and share educational aspirations.\n\nWhy Participate? \nThis University Fair is an exceptional platform for your students to gain valuable exposure to higher education possibilities. By attending\, they can explore their academic interests\, ask questions directly to university representatives\, and take a significant step towards charting their future course.
URL:https://grace.edu.bd/event/acumen-university-fair/
LOCATION:GSS
CATEGORIES:Whole School
END:VEVENT
BEGIN:VEVENT
DTSTART;VALUE=DATE:20240414
DTEND;VALUE=DATE:20240415
DTSTAMP:20260423T094706
CREATED:20230308T034444Z
LAST-MODIFIED:20231017T034827Z
UID:13884-1713052800-1713139199@grace.edu.bd
SUMMARY:Bengali New Year School and Offices Closed
DESCRIPTION:
URL:https://grace.edu.bd/event/bengali-new-year-school-offices-closed/
CATEGORIES:Whole School
END:VEVENT
BEGIN:VEVENT
DTSTART;VALUE=DATE:20240409
DTEND;VALUE=DATE:20240412
DTSTAMP:20260423T094706
CREATED:20230308T034342Z
LAST-MODIFIED:20231017T034903Z
UID:13882-1712620800-1712879999@grace.edu.bd
SUMMARY:Eid-ul-Fitr School and Offices Closed
DESCRIPTION:
URL:https://grace.edu.bd/event/eid-ul-fitr-school-offices-closed/
CATEGORIES:Whole School
END:VEVENT
BEGIN:VEVENT
DTSTART;VALUE=DATE:20240326
DTEND;VALUE=DATE:20240327
DTSTAMP:20260423T094706
CREATED:20230308T034245Z
LAST-MODIFIED:20231017T034947Z
UID:13880-1711411200-1711497599@grace.edu.bd
SUMMARY:Independence Day School and Offices Closed
DESCRIPTION:
URL:https://grace.edu.bd/event/independence-day-school-offices-closed/
CATEGORIES:Whole School
END:VEVENT
BEGIN:VEVENT
DTSTART;VALUE=DATE:20240317
DTEND;VALUE=DATE:20240318
DTSTAMP:20260423T094707
CREATED:20230308T034013Z
LAST-MODIFIED:20231017T035019Z
UID:13878-1710633600-1710719999@grace.edu.bd
SUMMARY:Birthday of Sheikh Mujibur Rahman School and Offices Closed
DESCRIPTION:
URL:https://grace.edu.bd/event/birthday-of-sheikh-mujibur-rahman-school-offices-closed/
CATEGORIES:Whole School
END:VEVENT
BEGIN:VEVENT
DTSTART;TZID=UTC:20240221T080000
DTEND;TZID=UTC:20240221T170000
DTSTAMP:20260423T094707
CREATED:20230308T033937Z
LAST-MODIFIED:20231017T035049Z
UID:13876-1708502400-1708534800@grace.edu.bd
SUMMARY:Int’l Mother Language Day School and Offices Closed
DESCRIPTION:
URL:https://grace.edu.bd/event/intl-mother-language-day-school-offices-closed/
CATEGORIES:Whole School
END:VEVENT
BEGIN:VEVENT
DTSTART;VALUE=DATE:20240220
DTEND;VALUE=DATE:20240223
DTSTAMP:20260423T094707
CREATED:20230308T035216Z
LAST-MODIFIED:20231017T035129Z
UID:13897-1708387200-1708646399@grace.edu.bd
SUMMARY:February Break  School Closed
DESCRIPTION:
URL:https://grace.edu.bd/event/february-break-school-closed/
CATEGORIES:Whole School
END:VEVENT
BEGIN:VEVENT
DTSTART;TZID=UTC:20231225T080000
DTEND;TZID=UTC:20231225T170000
DTSTAMP:20260423T094707
CREATED:20230308T033856Z
LAST-MODIFIED:20230308T033857Z
UID:13874-1703491200-1703523600@grace.edu.bd
SUMMARY:Christmas Day School & Offices Closed
DESCRIPTION:
URL:https://grace.edu.bd/event/christmas-day-school-offices-closed/
CATEGORIES:Whole School
END:VEVENT
BEGIN:VEVENT
DTSTART;VALUE=DATE:20231217
DTEND;VALUE=DATE:20240105
DTSTAMP:20260423T094707
CREATED:20230308T035133Z
LAST-MODIFIED:20230308T035133Z
UID:13895-1702771200-1704412799@grace.edu.bd
SUMMARY:December Break - School Closed
DESCRIPTION:
URL:https://grace.edu.bd/event/december-break-school-closed/
CATEGORIES:Whole School
END:VEVENT
BEGIN:VEVENT
DTSTART;VALUE=DATE:20231216
DTEND;VALUE=DATE:20231217
DTSTAMP:20260423T094707
CREATED:20230308T033738Z
LAST-MODIFIED:20230308T033811Z
UID:13872-1702684800-1702771199@grace.edu.bd
SUMMARY:National Victory Day School & Offices Closed
DESCRIPTION:
URL:https://grace.edu.bd/event/national-victory-day-school-offices-closed/
CATEGORIES:Whole School
END:VEVENT
BEGIN:VEVENT
DTSTART;VALUE=DATE:20231213
DTEND;VALUE=DATE:20231214
DTSTAMP:20260423T094707
CREATED:20231101T060704Z
LAST-MODIFIED:20231101T060704Z
UID:14480-1702425600-1702511999@grace.edu.bd
SUMMARY:GSS Christmas Showcase
DESCRIPTION:
URL:https://grace.edu.bd/event/gss-christmas-showcase-2/
CATEGORIES:GSS
END:VEVENT
BEGIN:VEVENT
DTSTART;TZID=UTC:20231210T080000
DTEND;TZID=UTC:20231214T170000
DTSTAMP:20260423T094707
CREATED:20231101T060602Z
LAST-MODIFIED:20231101T060603Z
UID:14478-1702195200-1702573200@grace.edu.bd
SUMMARY:GSS Christmas Celebration Week
DESCRIPTION:
URL:https://grace.edu.bd/event/gss-christmas-celebration-week/
CATEGORIES:GSS
END:VEVENT
BEGIN:VEVENT
DTSTART;VALUE=DATE:20231207
DTEND;VALUE=DATE:20231208
DTSTAMP:20260423T094707
CREATED:20231101T060401Z
LAST-MODIFIED:20231101T060402Z
UID:14476-1701907200-1701993599@grace.edu.bd
SUMMARY:GPS Nativity Christmas Performances
DESCRIPTION:
URL:https://grace.edu.bd/event/gps-nativity-christmas-performances/
CATEGORIES:GPS
END:VEVENT
BEGIN:VEVENT
DTSTART;VALUE=DATE:20231203
DTEND;VALUE=DATE:20231204
DTSTAMP:20260423T094707
CREATED:20231101T060250Z
LAST-MODIFIED:20231101T060252Z
UID:14474-1701561600-1701647999@grace.edu.bd
SUMMARY:INSET for Education Faculty
DESCRIPTION:No School for students. Buildings and offices are open.
URL:https://grace.edu.bd/event/inset-for-education-faculty-3/
CATEGORIES:Whole School
END:VEVENT
BEGIN:VEVENT
DTSTART;TZID=UTC:20231123T080000
DTEND;TZID=UTC:20231123T150000
DTSTAMP:20260423T094707
CREATED:20231101T060011Z
LAST-MODIFIED:20231101T060011Z
UID:14470-1700726400-1700751600@grace.edu.bd
SUMMARY:Grace Games
DESCRIPTION:
URL:https://grace.edu.bd/event/grace-games/
CATEGORIES:GPS,GSS
END:VEVENT
BEGIN:VEVENT
DTSTART;VALUE=DATE:20231112
DTEND;VALUE=DATE:20231117
DTSTAMP:20260423T094707
CREATED:20231101T060115Z
LAST-MODIFIED:20231101T060116Z
UID:14472-1699747200-1700179199@grace.edu.bd
SUMMARY:Spirit Week
DESCRIPTION:
URL:https://grace.edu.bd/event/spirit-week/
CATEGORIES:Whole School
END:VEVENT
BEGIN:VEVENT
DTSTART;TZID=UTC:20231024T080000
DTEND;TZID=UTC:20231024T170000
DTSTAMP:20260423T094707
CREATED:20230308T033653Z
LAST-MODIFIED:20231017T034632Z
UID:13870-1698134400-1698166800@grace.edu.bd
SUMMARY:Durga Puja School and Offices Closed
DESCRIPTION:
URL:https://grace.edu.bd/event/durga-puja-school-offices-closed/
CATEGORIES:Whole School
END:VEVENT
BEGIN:VEVENT
DTSTART;VALUE=DATE:20231008
DTEND;VALUE=DATE:20231013
DTSTAMP:20260423T094707
CREATED:20230308T035045Z
LAST-MODIFIED:20230308T035045Z
UID:13893-1696723200-1697155199@grace.edu.bd
SUMMARY:October Break - School Closed
DESCRIPTION:
URL:https://grace.edu.bd/event/october-break-school-closed/
CATEGORIES:Whole School
END:VEVENT
BEGIN:VEVENT
DTSTART;TZID=UTC:20230830T144500
DTEND;TZID=UTC:20230830T154500
DTSTAMP:20260423T094707
CREATED:20230816T110717Z
LAST-MODIFIED:20230816T110718Z
UID:14320-1693406700-1693410300@grace.edu.bd
SUMMARY:KS5 Meet and Greet
DESCRIPTION:Years 12-13 – Come to campus to meet your child’s teacher\, see the classroom\, and greet the other parents!
URL:https://grace.edu.bd/event/ks5-meet-and-greet/
CATEGORIES:GSS
END:VEVENT
BEGIN:VEVENT
DTSTART;TZID=UTC:20230829T144500
DTEND;TZID=UTC:20230829T154500
DTSTAMP:20260423T094707
CREATED:20230816T110556Z
LAST-MODIFIED:20230816T110556Z
UID:14318-1693320300-1693323900@grace.edu.bd
SUMMARY:KS4 Meet and Greet
DESCRIPTION:Years 10-11 – Come to campus to meet your child’s teacher\, see the classroom\, and greet the other parents!
URL:https://grace.edu.bd/event/ks4-meet-and-greet/
CATEGORIES:GSS
END:VEVENT
BEGIN:VEVENT
DTSTART;TZID=UTC:20230828T144500
DTEND;TZID=UTC:20230828T154500
DTSTAMP:20260423T094707
CREATED:20230816T110304Z
LAST-MODIFIED:20230816T110305Z
UID:14316-1693233900-1693237500@grace.edu.bd
SUMMARY:Key Stage 3 Meet and Greet
DESCRIPTION:Years 7-9 – Come to campus to meet your child’s teacher\, see the classroom\, and greet the other parents!
URL:https://grace.edu.bd/event/key-stage-3-meet-and-greet/
CATEGORIES:GSS
END:VEVENT
BEGIN:VEVENT
DTSTART;TZID=UTC:20230820T151000
DTEND;TZID=UTC:20230820T154000
DTSTAMP:20260423T094707
CREATED:20230812T073023Z
LAST-MODIFIED:20230812T073056Z
UID:14310-1692544200-1692546000@grace.edu.bd
SUMMARY:Years 4-6 Parent/Teacher Meet and Greet
DESCRIPTION:Meet your child’s teacher\, see the classroom\, and greet the other parents.
URL:https://grace.edu.bd/event/years-4-6-parent-teacher-meet-and-greet/
CATEGORIES:GPS
END:VEVENT
BEGIN:VEVENT
DTSTART;TZID=UTC:20230820T144500
DTEND;TZID=UTC:20230820T151000
DTSTAMP:20260423T094707
CREATED:20230812T072839Z
LAST-MODIFIED:20230812T072840Z
UID:14308-1692542700-1692544200@grace.edu.bd
SUMMARY:Years 1-3 Parent/Teacher Meet and Greet
DESCRIPTION:Meet your child’s teacher\, see the classroom\, and greet the other parents.
URL:https://grace.edu.bd/event/years-1-3-parent-teacher-meet-and-greet/
CATEGORIES:GPS
END:VEVENT
BEGIN:VEVENT
DTSTART;TZID=UTC:20230817T134000
DTEND;TZID=UTC:20230817T140000
DTSTAMP:20260423T094707
CREATED:20230812T072709Z
LAST-MODIFIED:20230812T072710Z
UID:14306-1692279600-1692280800@grace.edu.bd
SUMMARY:Reception Meet & Greet
DESCRIPTION:Meet your child’s teacher\, see the classroom\, and greet the other parents.
URL:https://grace.edu.bd/event/reception-meet-greet/
CATEGORIES:GEY
END:VEVENT
BEGIN:VEVENT
DTSTART;VALUE=DATE:20230815
DTEND;VALUE=DATE:20230816
DTSTAMP:20260423T094707
CREATED:20230308T033610Z
LAST-MODIFIED:20230308T033611Z
UID:13868-1692057600-1692143999@grace.edu.bd
SUMMARY:National Mourning Day - School & Offices Closed
DESCRIPTION:
URL:https://grace.edu.bd/event/national-mourning-day-school-offices-closed/
CATEGORIES:Whole School
END:VEVENT
BEGIN:VEVENT
DTSTART;TZID=UTC:20230813T080000
DTEND;TZID=UTC:20230813T090000
DTSTAMP:20260423T094707
CREATED:20230812T072340Z
LAST-MODIFIED:20230812T072547Z
UID:14304-1691913600-1691917200@grace.edu.bd
SUMMARY:Nursery Meet & Greet
DESCRIPTION:Meet your child’s teacher\, see the classroom\, and greet the other parents.
URL:https://grace.edu.bd/event/nursery-meet-greet/
CATEGORIES:GEY
END:VEVENT
BEGIN:VEVENT
DTSTART;VALUE=DATE:20230813
DTEND;VALUE=DATE:20230814
DTSTAMP:20260423T094707
CREATED:20230308T033517Z
LAST-MODIFIED:20230308T033517Z
UID:13866-1691884800-1691971199@grace.edu.bd
SUMMARY:Back to School!
DESCRIPTION:
URL:https://grace.edu.bd/event/back-to-school/
CATEGORIES:Whole School
END:VEVENT
BEGIN:VEVENT
DTSTART;VALUE=DATE:20230807
DTEND;VALUE=DATE:20230811
DTSTAMP:20260423T094707
CREATED:20230308T034951Z
LAST-MODIFIED:20230308T034951Z
UID:13890-1691366400-1691711999@grace.edu.bd
SUMMARY:INSET - Teacher only days
DESCRIPTION:
URL:https://grace.edu.bd/event/inset-teacher-only-days/
CATEGORIES:Staff
END:VEVENT
BEGIN:VEVENT
DTSTART;VALUE=DATE:20230628
DTEND;VALUE=DATE:20230701
DTSTAMP:20260423T094707
CREATED:20220903T050639Z
LAST-MODIFIED:20220903T050639Z
UID:13493-1687910400-1688169599@grace.edu.bd
SUMMARY:Eid-ul-Adha
DESCRIPTION:National Holiday – School campuses & offices closed
URL:https://grace.edu.bd/event/eid-ul-adha/
CATEGORIES:Whole School
END:VEVENT
END:VCALENDAR