BEGIN:VCALENDAR
VERSION:2.0
PRODID:-//Grace International School - ECPv6.15.18//NONSGML v1.0//EN
CALSCALE:GREGORIAN
METHOD:PUBLISH
X-ORIGINAL-URL:https://grace.edu.bd
X-WR-CALDESC:Events for Grace International School
REFRESH-INTERVAL;VALUE=DURATION:PT1H
X-Robots-Tag:noindex
X-PUBLISHED-TTL:PT1H
BEGIN:VTIMEZONE
TZID:UTC
BEGIN:STANDARD
TZOFFSETFROM:+0000
TZOFFSETTO:+0000
TZNAME:UTC
DTSTART:20220101T000000
END:STANDARD
END:VTIMEZONE
BEGIN:VEVENT
DTSTART;VALUE=DATE:20250223
DTEND;VALUE=DATE:20250226
DTSTAMP:20260421T125818
CREATED:20240923T043847Z
LAST-MODIFIED:20240923T043847Z
UID:15574-1740268800-1740527999@grace.edu.bd
SUMMARY:February Break
DESCRIPTION:No school for students
URL:https://grace.edu.bd/event/february-break/
CATEGORIES:Whole School
END:VEVENT
BEGIN:VEVENT
DTSTART;VALUE=DATE:20250216
DTEND;VALUE=DATE:20250221
DTSTAMP:20260421T125818
CREATED:20240923T043746Z
LAST-MODIFIED:20240923T043747Z
UID:15572-1739664000-1740095999@grace.edu.bd
SUMMARY:Book Week
DESCRIPTION:
URL:https://grace.edu.bd/event/book-week/
CATEGORIES:Whole School
END:VEVENT
BEGIN:VEVENT
DTSTART;VALUE=DATE:20250212
DTEND;VALUE=DATE:20250213
DTSTAMP:20260421T125818
CREATED:20240923T043706Z
LAST-MODIFIED:20240923T043707Z
UID:15570-1739318400-1739404799@grace.edu.bd
SUMMARY:GEY Sports Day
DESCRIPTION:
URL:https://grace.edu.bd/event/gey-sports-day/
CATEGORIES:GEY
END:VEVENT
BEGIN:VEVENT
DTSTART;VALUE=DATE:20250126
DTEND;VALUE=DATE:20250207
DTSTAMP:20260421T125818
CREATED:20240923T043621Z
LAST-MODIFIED:20240923T043621Z
UID:15568-1737849600-1738886399@grace.edu.bd
SUMMARY:IGCSE Mock Exams
DESCRIPTION:
URL:https://grace.edu.bd/event/igcse-mock-exams/
CATEGORIES:GSS
END:VEVENT
BEGIN:VEVENT
DTSTART;VALUE=DATE:20250125
DTEND;VALUE=DATE:20250126
DTSTAMP:20260421T125818
CREATED:20240923T043508Z
LAST-MODIFIED:20240923T043509Z
UID:15566-1737763200-1737849599@grace.edu.bd
SUMMARY:The Grace Fair!
DESCRIPTION:
URL:https://grace.edu.bd/event/the-grace-fair-2/
CATEGORIES:Whole School
END:VEVENT
BEGIN:VEVENT
DTSTART;VALUE=DATE:20250105
DTEND;VALUE=DATE:20250107
DTSTAMP:20260421T125818
CREATED:20240923T044746Z
LAST-MODIFIED:20240923T044755Z
UID:15590-1736035200-1736207999@grace.edu.bd
SUMMARY:INSET (Teacher only days)
DESCRIPTION:No school for students
URL:https://grace.edu.bd/event/inset-teacher-only-days-2/
CATEGORIES:Whole School
END:VEVENT
BEGIN:VEVENT
DTSTART;VALUE=DATE:20241215
DTEND;VALUE=DATE:20250105
DTSTAMP:20260421T125818
CREATED:20240923T043339Z
LAST-MODIFIED:20240923T043340Z
UID:15564-1734220800-1736035199@grace.edu.bd
SUMMARY:Winter Holiday
DESCRIPTION:No school for students
URL:https://grace.edu.bd/event/winter-holiday/
CATEGORIES:Whole School
END:VEVENT
BEGIN:VEVENT
DTSTART;VALUE=DATE:20241121
DTEND;VALUE=DATE:20241122
DTSTAMP:20260421T125818
CREATED:20240923T043215Z
LAST-MODIFIED:20240923T043216Z
UID:15562-1732147200-1732233599@grace.edu.bd
SUMMARY:Grace Games
DESCRIPTION:
URL:https://grace.edu.bd/event/grace-games-2/
CATEGORIES:GPS,GSS
END:VEVENT
BEGIN:VEVENT
DTSTART;VALUE=DATE:20241031
DTEND;VALUE=DATE:20241101
DTSTAMP:20260421T125818
CREATED:20240923T043055Z
LAST-MODIFIED:20240923T043055Z
UID:15560-1730332800-1730419199@grace.edu.bd
SUMMARY:International Fair
DESCRIPTION:
URL:https://grace.edu.bd/event/international-fair-2/
CATEGORIES:Whole School
END:VEVENT
BEGIN:VEVENT
DTSTART;VALUE=DATE:20241027
DTEND;VALUE=DATE:20241101
DTSTAMP:20260421T125818
CREATED:20240923T042948Z
LAST-MODIFIED:20240923T042948Z
UID:15558-1729987200-1730419199@grace.edu.bd
SUMMARY:International Week
DESCRIPTION:Grace International School proudly celebrates International Week\, a vibrant event that showcases the rich tapestry of cultures from around the world. Students from diverse backgrounds come together to share their traditions\, customs\, and experiences. The week culminates in the International Fair\, a bustling marketplace featuring delicious food\, exciting games\, and unique items from various nations. This event provides a wonderful opportunity for students and families to explore different cultures and foster a sense of global citizenship.
URL:https://grace.edu.bd/event/international-week/
CATEGORIES:Whole School
END:VEVENT
BEGIN:VEVENT
DTSTART;VALUE=DATE:20241020
DTEND;VALUE=DATE:20241025
DTSTAMP:20260421T125818
CREATED:20240923T042650Z
LAST-MODIFIED:20240923T043016Z
UID:15556-1729382400-1729814399@grace.edu.bd
SUMMARY:Work Experience
DESCRIPTION:To provide our Key Stage 4 and 5 students with valuable hands-on experience\, Grace International School organizes a week-long work experience program. During this program\, students have the opportunity to spend time at a company or business of their choice\, gaining insights into various industries and career paths. This experience helps students develop essential skills\, explore potential career options\, and build professional networks.
URL:https://grace.edu.bd/event/work-experience/
CATEGORIES:GSS
END:VEVENT
BEGIN:VEVENT
DTSTART;VALUE=DATE:20241013
DTEND;VALUE=DATE:20241018
DTSTAMP:20260421T125818
CREATED:20240923T042418Z
LAST-MODIFIED:20240923T042419Z
UID:15554-1728777600-1729209599@grace.edu.bd
SUMMARY:October Break
DESCRIPTION:No school for students.
URL:https://grace.edu.bd/event/october-break-2/
CATEGORIES:Whole School
END:VEVENT
BEGIN:VEVENT
DTSTART;VALUE=DATE:20241013
DTEND;VALUE=DATE:20241014
DTSTAMP:20260421T125818
CREATED:20240923T041245Z
LAST-MODIFIED:20240923T041245Z
UID:15540-1728777600-1728863999@grace.edu.bd
SUMMARY:Durga Puja
DESCRIPTION:School and Offices Closed
URL:https://grace.edu.bd/event/durga-puja/
CATEGORIES:Whole School
END:VEVENT
BEGIN:VEVENT
DTSTART;VALUE=DATE:20241006
DTEND;VALUE=DATE:20241011
DTSTAMP:20260421T125818
CREATED:20240923T042250Z
LAST-MODIFIED:20240923T042251Z
UID:15551-1728172800-1728604799@grace.edu.bd
SUMMARY:Bangladesh Emphasis Week
DESCRIPTION:Grace International School is deeply committed to Bangladesh and its people. We celebrate the rich culture\, heritage\, and contributions of this beautiful country. During Bangladesh Emphasis Week\, we organize a variety of activities and events to showcase the unique aspects of Bangladeshi culture\, history\, and traditions. Through these initiatives\, we aim to foster a deeper appreciation and understanding of Bangladesh among our students and the wider community.
URL:https://grace.edu.bd/event/bangladesh-emphasis-week-3/
CATEGORIES:Whole School
END:VEVENT
BEGIN:VEVENT
DTSTART;VALUE=DATE:20241002
DTEND;VALUE=DATE:20241004
DTSTAMP:20260421T125818
CREATED:20240923T042053Z
LAST-MODIFIED:20240923T042054Z
UID:15549-1727827200-1727999999@grace.edu.bd
SUMMARY:Mock Interviews
DESCRIPTION:Mock interviews offer invaluable preparation for Key Stage 4 and 5 students. By practicing in a safe environment\, students can build confidence\, improve communication skills\, and receive valuable feedback. This experience will help them excel in real-world job interviews and achieve their career goals.
URL:https://grace.edu.bd/event/mock-interviews/
CATEGORIES:GSS
END:VEVENT
BEGIN:VEVENT
DTSTART;VALUE=DATE:20240922
DTEND;VALUE=DATE:20240927
DTSTAMP:20260421T125818
CREATED:20240923T041811Z
LAST-MODIFIED:20240923T041812Z
UID:15546-1726963200-1727395199@grace.edu.bd
SUMMARY:Spirit Week and Thrive Week
DESCRIPTION:
URL:https://grace.edu.bd/event/spirit-week-and-thrive-week/
CATEGORIES:Whole School
END:VEVENT
BEGIN:VEVENT
DTSTART;TZID=UTC:20240818T080000
DTEND;TZID=UTC:20240818T143000
DTSTAMP:20260421T125818
CREATED:20240605T045038Z
LAST-MODIFIED:20240807T063441Z
UID:15463-1723968000-1723991400@grace.edu.bd
SUMMARY:Back to School!
DESCRIPTION:The first day of the 2024/25 academic year for all students.
URL:https://grace.edu.bd/event/back-to-school-2/
CATEGORIES:Whole School
END:VEVENT
BEGIN:VEVENT
DTSTART;TZID=UTC:20240805T080000
DTEND;TZID=UTC:20240814T160000
DTSTAMP:20260421T125818
CREATED:20240605T044734Z
LAST-MODIFIED:20240807T063528Z
UID:15460-1722844800-1723651200@grace.edu.bd
SUMMARY:INSET
DESCRIPTION:No school for students.
URL:https://grace.edu.bd/event/inset/
CATEGORIES:Whole School
END:VEVENT
BEGIN:VEVENT
DTSTART;VALUE=DATE:20240618
DTEND;VALUE=DATE:20240619
DTSTAMP:20260421T125818
CREATED:20230308T035402Z
LAST-MODIFIED:20230308T035403Z
UID:13899-1718668800-1718755199@grace.edu.bd
SUMMARY:Start of Summer Holidays
DESCRIPTION:Half day of school.
URL:https://grace.edu.bd/event/start-of-summer-holidays-2/
CATEGORIES:Whole School
END:VEVENT
BEGIN:VEVENT
DTSTART;VALUE=DATE:20240616
DTEND;VALUE=DATE:20240619
DTSTAMP:20260421T125818
CREATED:20230308T034801Z
LAST-MODIFIED:20231017T034729Z
UID:13888-1718496000-1718755199@grace.edu.bd
SUMMARY:Eid-ul-Adha School and Offices Closed
DESCRIPTION:
URL:https://grace.edu.bd/event/eid-ul-adha-school-offices-closed/
CATEGORIES:Whole School
END:VEVENT
BEGIN:VEVENT
DTSTART;VALUE=DATE:20240501
DTEND;VALUE=DATE:20240502
DTSTAMP:20260421T125818
CREATED:20230308T034613Z
LAST-MODIFIED:20231017T034758Z
UID:13886-1714521600-1714607999@grace.edu.bd
SUMMARY:Int’l Labour Day School and Offices Closed
DESCRIPTION:
URL:https://grace.edu.bd/event/intl-labour-day-school-offices-closed/
CATEGORIES:Whole School
END:VEVENT
BEGIN:VEVENT
DTSTART;TZID=UTC:20240424T083000
DTEND;TZID=UTC:20240424T100000
DTSTAMP:20260421T125818
CREATED:20240318T033107Z
LAST-MODIFIED:20240318T033108Z
UID:15413-1713947400-1713952800@grace.edu.bd
SUMMARY:Acumen University Fair
DESCRIPTION:Exclusive Partnerships: \nThrough our collaboration with Acumen Education\, we are honoured to host representatives from prestigious universities\, including: \n\nUniversity of Exeter\nLancaster University\nUniversity of Southampton\nUniversity of Portsmouth\nLoughborough University\nUniversity of Dundee\nUniversity of Lincoln\nUniversity of Aberystwyth\nGlasgow Caledonian University\n\nMore universities are to be confirmed! \nBenefits for your Students: \n\nInteract directly with university representatives from the United Kingdom.\nExplore a diverse range of academic programs across various disciplines.\nGain valuable insights into the university application process and admission requirements.\nLearn about scholarships and financial aid opportunities.\nConnect with peers from other schools and share educational aspirations.\n\nWhy Participate? \nThis University Fair is an exceptional platform for your students to gain valuable exposure to higher education possibilities. By attending\, they can explore their academic interests\, ask questions directly to university representatives\, and take a significant step towards charting their future course.
URL:https://grace.edu.bd/event/acumen-university-fair/
LOCATION:GSS
CATEGORIES:Whole School
END:VEVENT
BEGIN:VEVENT
DTSTART;VALUE=DATE:20240414
DTEND;VALUE=DATE:20240415
DTSTAMP:20260421T125818
CREATED:20230308T034444Z
LAST-MODIFIED:20231017T034827Z
UID:13884-1713052800-1713139199@grace.edu.bd
SUMMARY:Bengali New Year School and Offices Closed
DESCRIPTION:
URL:https://grace.edu.bd/event/bengali-new-year-school-offices-closed/
CATEGORIES:Whole School
END:VEVENT
BEGIN:VEVENT
DTSTART;VALUE=DATE:20240409
DTEND;VALUE=DATE:20240412
DTSTAMP:20260421T125818
CREATED:20230308T034342Z
LAST-MODIFIED:20231017T034903Z
UID:13882-1712620800-1712879999@grace.edu.bd
SUMMARY:Eid-ul-Fitr School and Offices Closed
DESCRIPTION:
URL:https://grace.edu.bd/event/eid-ul-fitr-school-offices-closed/
CATEGORIES:Whole School
END:VEVENT
BEGIN:VEVENT
DTSTART;VALUE=DATE:20240326
DTEND;VALUE=DATE:20240327
DTSTAMP:20260421T125818
CREATED:20230308T034245Z
LAST-MODIFIED:20231017T034947Z
UID:13880-1711411200-1711497599@grace.edu.bd
SUMMARY:Independence Day School and Offices Closed
DESCRIPTION:
URL:https://grace.edu.bd/event/independence-day-school-offices-closed/
CATEGORIES:Whole School
END:VEVENT
BEGIN:VEVENT
DTSTART;VALUE=DATE:20240317
DTEND;VALUE=DATE:20240318
DTSTAMP:20260421T125818
CREATED:20230308T034013Z
LAST-MODIFIED:20231017T035019Z
UID:13878-1710633600-1710719999@grace.edu.bd
SUMMARY:Birthday of Sheikh Mujibur Rahman School and Offices Closed
DESCRIPTION:
URL:https://grace.edu.bd/event/birthday-of-sheikh-mujibur-rahman-school-offices-closed/
CATEGORIES:Whole School
END:VEVENT
BEGIN:VEVENT
DTSTART;TZID=UTC:20240221T080000
DTEND;TZID=UTC:20240221T170000
DTSTAMP:20260421T125818
CREATED:20230308T033937Z
LAST-MODIFIED:20231017T035049Z
UID:13876-1708502400-1708534800@grace.edu.bd
SUMMARY:Int’l Mother Language Day School and Offices Closed
DESCRIPTION:
URL:https://grace.edu.bd/event/intl-mother-language-day-school-offices-closed/
CATEGORIES:Whole School
END:VEVENT
BEGIN:VEVENT
DTSTART;VALUE=DATE:20240220
DTEND;VALUE=DATE:20240223
DTSTAMP:20260421T125818
CREATED:20230308T035216Z
LAST-MODIFIED:20231017T035129Z
UID:13897-1708387200-1708646399@grace.edu.bd
SUMMARY:February Break  School Closed
DESCRIPTION:
URL:https://grace.edu.bd/event/february-break-school-closed/
CATEGORIES:Whole School
END:VEVENT
BEGIN:VEVENT
DTSTART;TZID=UTC:20231225T080000
DTEND;TZID=UTC:20231225T170000
DTSTAMP:20260421T125818
CREATED:20230308T033856Z
LAST-MODIFIED:20230308T033857Z
UID:13874-1703491200-1703523600@grace.edu.bd
SUMMARY:Christmas Day School & Offices Closed
DESCRIPTION:
URL:https://grace.edu.bd/event/christmas-day-school-offices-closed/
CATEGORIES:Whole School
END:VEVENT
BEGIN:VEVENT
DTSTART;VALUE=DATE:20231217
DTEND;VALUE=DATE:20240105
DTSTAMP:20260421T125818
CREATED:20230308T035133Z
LAST-MODIFIED:20230308T035133Z
UID:13895-1702771200-1704412799@grace.edu.bd
SUMMARY:December Break - School Closed
DESCRIPTION:
URL:https://grace.edu.bd/event/december-break-school-closed/
CATEGORIES:Whole School
END:VEVENT
END:VCALENDAR