BEGIN:VCALENDAR
VERSION:2.0
PRODID:-//Grace International School - ECPv6.15.18//NONSGML v1.0//EN
CALSCALE:GREGORIAN
METHOD:PUBLISH
X-WR-CALNAME:Grace International School
X-ORIGINAL-URL:https://grace.edu.bd
X-WR-CALDESC:Events for Grace International School
REFRESH-INTERVAL;VALUE=DURATION:PT1H
X-Robots-Tag:noindex
X-PUBLISHED-TTL:PT1H
BEGIN:VTIMEZONE
TZID:UTC
BEGIN:STANDARD
TZOFFSETFROM:+0000
TZOFFSETTO:+0000
TZNAME:UTC
DTSTART:20210101T000000
END:STANDARD
END:VTIMEZONE
BEGIN:VTIMEZONE
TZID:Asia/Dhaka
BEGIN:STANDARD
TZOFFSETFROM:+0600
TZOFFSETTO:+0600
TZNAME:+06
DTSTART:20210101T000000
END:STANDARD
END:VTIMEZONE
BEGIN:VEVENT
DTSTART;TZID=UTC:20220825T090000
DTEND;TZID=UTC:20220825T100000
DTSTAMP:20260423T190034
CREATED:20220821T023708Z
LAST-MODIFIED:20220821T023709Z
UID:13460-1661418000-1661421600@grace.edu.bd
SUMMARY:GPS (Years 4-6) Campus Guidance/Meet & Greet Event
DESCRIPTION:Dear GPS Parents\,  \nWe are excited about this new school year. As part of our Grace commitment\, we want to maintain a close relationship with our Grace parents. From official gatherings to informal conversations with our Teachers and Administrators\, we will make ourselves available to help you understand the educational experience in which you and your child are engaging and to partner with you in your child’s development.   \nPlease find attached a GPS School Guide for Parents outlining some key information about day-to-day logistics and procedures at the Primary Campus. \nThe Meet & Greet event will be structured in two parts: \n\nWelcome Meeting in the Hall with the Principal.\nClassroom visit to meet with the class teacher and the academic team.\n\nWe hope that you can join us! \nThank you \nRegards\, \nAlison Hawkins | Campus Manager | Primary School \n+880 171 1922 355 | ahawkins@grace.edu.bd | www.https://grace.edu.bd/ \n 
URL:https://grace.edu.bd/event/gps-years-4-6-campus-guidance-meet-greet-event/
CATEGORIES:GPS
END:VEVENT
BEGIN:VEVENT
DTSTART;TZID=UTC:20220824T150000
DTEND;TZID=UTC:20220824T160000
DTSTAMP:20260423T190034
CREATED:20220821T023342Z
LAST-MODIFIED:20220821T023342Z
UID:13458-1661353200-1661356800@grace.edu.bd
SUMMARY:KS5 (Years 12-13) Parent Meet & Greet
DESCRIPTION:Dear Parents\,\n\n\n\n \nWe are excited about this new school year and working with your child.  As part of our Grace teaching commitment\, we want to maintain a close relationship with our Grace parents. From official gatherings to informal conversations with our Teachers and Administrators\, we will make ourselves available to help you understand the educational experience in which you and your child are engaging and to partner with you in your child’s development.  \n \nAs such\, we will provide our first opportunity of the year for you to meet our School Administrators\, our Key Stage (KS) Coordinators\, and your child’s Homeroom teachers at our upcoming Parent Meet & Greet. Because each Key Stage is unique\, we would like to host three meetings – one for each of our 3 Key Stages. This format will allow us to go deeply into what is required in each Key Stage and in transition to the next Key Stage. The information will be relevant for both parents and students and so we strongly encourage you to bring your child with you. \n\n\n\n\nWe will meet in C1 which is the 3rd Floor Classroom at our GSS campus.\n\n \nIf you have any questions\, please feel free to email me.  We are looking forward to connecting with you next week. \n\n\nBest Regards\,\nJane Baroi-Gomes  \nCampus Manager | Secondary Campus+880 175 558 2355 | jbaroi@grace.edu.bd \n\nGIS is an educational division of DexServe Ltd.
URL:https://grace.edu.bd/event/ks5-years-12-13-parent-meet-greet/
CATEGORIES:GSS
END:VEVENT
BEGIN:VEVENT
DTSTART;TZID=UTC:20220823T150000
DTEND;TZID=UTC:20220823T160000
DTSTAMP:20260423T190034
CREATED:20220821T023230Z
LAST-MODIFIED:20220821T023231Z
UID:13456-1661266800-1661270400@grace.edu.bd
SUMMARY:KS4 (Years 10-11) Parent Meet & Greet
DESCRIPTION:Dear Parents\,\n\n\n\n \nWe are excited about this new school year and working with your child.  As part of our Grace teaching commitment\, we want to maintain a close relationship with our Grace parents. From official gatherings to informal conversations with our Teachers and Administrators\, we will make ourselves available to help you understand the educational experience in which you and your child are engaging and to partner with you in your child’s development.  \n \nAs such\, we will provide our first opportunity of the year for you to meet our School Administrators\, our Key Stage (KS) Coordinators\, and your child’s Homeroom teachers at our upcoming Parent Meet & Greet. Because each Key Stage is unique\, we would like to host three meetings – one for each of our 3 Key Stages. This format will allow us to go deeply into what is required in each Key Stage and in transition to the next Key Stage. The information will be relevant for both parents and students and so we strongly encourage you to bring your child with you. \n\n\n\n\nWe will meet in C1 which is the 3rd Floor Classroom at our GSS campus.\n\n \nIf you have any questions\, please feel free to email me.  We are looking forward to connecting with you next week. \n\n\nBest Regards\,\nJane Baroi-Gomes  \nCampus Manager | Secondary Campus+880 175 558 2355 | jbaroi@grace.edu.bd \n\nGIS is an educational division of DexServe Ltd.
URL:https://grace.edu.bd/event/ks4-years-10-11-parent-meet-greet/
CATEGORIES:GSS
END:VEVENT
BEGIN:VEVENT
DTSTART;TZID=UTC:20220822T150000
DTEND;TZID=UTC:20220822T160000
DTSTAMP:20260423T190034
CREATED:20220821T023014Z
LAST-MODIFIED:20220821T023014Z
UID:13454-1661180400-1661184000@grace.edu.bd
SUMMARY:KS 3 (Years 7-9) Parent Meet & Greet
DESCRIPTION:Dear Parents\,\n\n\n\n \nWe are excited about this new school year and working with your child.  As part of our Grace teaching commitment\, we want to maintain a close relationship with our Grace parents. From official gatherings to informal conversations with our Teachers and Administrators\, we will make ourselves available to help you understand the educational experience in which you and your child are engaging and to partner with you in your child’s development.  \n \nAs such\, we will provide our first opportunity of the year for you to meet our School Administrators\, our Key Stage (KS) Coordinators\, and your child’s Homeroom teachers at our upcoming Parent Meet & Greet. Because each Key Stage is unique\, we would like to host three meetings – one for each of our 3 Key Stages. This format will allow us to go deeply into what is required in each Key Stage and in transition to the next Key Stage. The information will be relevant for both parents and students and so we strongly encourage you to bring your child with you. \n\n\n\n\nWe will meet in C1 which is the 3rd Floor Classroom at our GSS campus.\n\n \nIf you have any questions\, please feel free to email me.  We are looking forward to connecting with you next week. \n\n\nBest Regards\,\nJane Baroi-Gomes  \nCampus Manager | Secondary Campus+880 175 558 2355 | jbaroi@grace.edu.bd \n\nGIS is an educational division of DexServe Ltd.
URL:https://grace.edu.bd/event/ks-3-years-7-9-parent-meet-greet/
CATEGORIES:GSS
END:VEVENT
BEGIN:VEVENT
DTSTART;VALUE=DATE:20220816
DTEND;VALUE=DATE:20220817
DTSTAMP:20260423T190034
CREATED:20220421T092228Z
LAST-MODIFIED:20220421T113430Z
UID:12923-1660608000-1660694399@grace.edu.bd
SUMMARY:First Day of School
DESCRIPTION:
URL:https://grace.edu.bd/event/first-day-of-school/
CATEGORIES:Whole School
END:VEVENT
BEGIN:VEVENT
DTSTART;VALUE=DATE:20220815
DTEND;VALUE=DATE:20220816
DTSTAMP:20260423T190034
CREATED:20220421T100850Z
LAST-MODIFIED:20220421T105400Z
UID:12929-1660521600-1660607999@grace.edu.bd
SUMMARY:National Mourning Day
DESCRIPTION:School & offices closed
URL:https://grace.edu.bd/event/national-mourning-day/
CATEGORIES:Whole School
END:VEVENT
BEGIN:VEVENT
DTSTART;VALUE=DATE:20220814
DTEND;VALUE=DATE:20220815
DTSTAMP:20260423T190034
CREATED:20220421T080134Z
LAST-MODIFIED:20220421T105306Z
UID:12920-1660435200-1660521599@grace.edu.bd
SUMMARY:INSET for Education Faculty
DESCRIPTION:
URL:https://grace.edu.bd/event/inset-for-education-faculty-2/
CATEGORIES:Staff
END:VEVENT
BEGIN:VEVENT
DTSTART;VALUE=DATE:20220810
DTEND;VALUE=DATE:20220812
DTSTAMP:20260423T190034
CREATED:20220421T080026Z
LAST-MODIFIED:20220421T105329Z
UID:12915-1660089600-1660262399@grace.edu.bd
SUMMARY:INSET for Education Faculty
DESCRIPTION:
URL:https://grace.edu.bd/event/inset-for-education-faculty/
CATEGORIES:Staff
END:VEVENT
BEGIN:VEVENT
DTSTART;TZID=Asia/Dhaka:20220615T190000
DTEND;TZID=Asia/Dhaka:20220615T210000
DTSTAMP:20260423T190034
CREATED:20220427T075031Z
LAST-MODIFIED:20220428T094441Z
UID:13081-1655319600-1655326800@grace.edu.bd
SUMMARY:Celebrate Grace
DESCRIPTION:Grace Teachers are planning a wonderful event to connect one final time with all GSS students before our summer break. The evening will include food and games and will give staff an opportunity to celebrate the conclusion of the year with our wonderful students and to say farewell.\n \nPlease stay tuned for more information and if you have any questions or comments\, please feel free to email.
URL:https://grace.edu.bd/event/celebrate-grace/
CATEGORIES:GSS
END:VEVENT
BEGIN:VEVENT
DTSTART;TZID=UTC:20220612T100000
DTEND;TZID=UTC:20220612T120000
DTSTAMP:20260423T190034
CREATED:20220428T093735Z
LAST-MODIFIED:20220428T093735Z
UID:13192-1655028000-1655035200@grace.edu.bd
SUMMARY:Graduation Tea
DESCRIPTION:
URL:https://grace.edu.bd/event/graduation-tea/
CATEGORIES:GSS
END:VEVENT
BEGIN:VEVENT
DTSTART;TZID=Asia/Dhaka:20220612T091500
DTEND;TZID=Asia/Dhaka:20220612T100000
DTSTAMP:20260423T190034
CREATED:20220428T093545Z
LAST-MODIFIED:20220428T093545Z
UID:13190-1655025300-1655028000@grace.edu.bd
SUMMARY:Graduation Ceremony
DESCRIPTION:
URL:https://grace.edu.bd/event/graduation-ceremony/
CATEGORIES:GSS
END:VEVENT
END:VCALENDAR